BEGIN:VCALENDAR
VERSION:2.0
PRODID:-//اتحاد المحاسبين والمراجعين العرب - ECPv6.15.11//NONSGML v1.0//EN
CALSCALE:GREGORIAN
METHOD:PUBLISH
X-WR-CALNAME:اتحاد المحاسبين والمراجعين العرب
X-ORIGINAL-URL:https://nnew.theafaa.org.eg
X-WR-CALDESC:Events for اتحاد المحاسبين والمراجعين العرب
REFRESH-INTERVAL;VALUE=DURATION:PT1H
X-Robots-Tag:noindex
X-PUBLISHED-TTL:PT1H
BEGIN:VTIMEZONE
TZID:UTC
BEGIN:STANDARD
TZOFFSETFROM:+0000
TZOFFSETTO:+0000
TZNAME:UTC
DTSTART:20220101T000000
END:STANDARD
END:VTIMEZONE
BEGIN:VEVENT
DTSTART;TZID=UTC:20231104T080000
DTEND;TZID=UTC:20231104T170000
DTSTAMP:20260420T131008
CREATED:20231104T171745Z
LAST-MODIFIED:20231104T171751Z
UID:1748-1699084800-1699117200@nnew.theafaa.org.eg
SUMMARY:Webinar on Career Prospects in Cyber Security 03 نوفمبر 2023
DESCRIPTION:“The cybersecurity global talent shortage requires over 3.5 million Cyber specialists to fill the skill gap”. \nHere are the webinar details: \nTopic: Career Prospects in Cyber Security \nDate: 3-Nov-2023 \nStart Time: 5:00 PM IST\, 2:30 PM Qatar\, 3:30 PM UAE\, 11:30 AM GMT \nDuration: Approximately [60 Minutes] + Q&A \nSpeaker: [Talha Jawad – Senior Manager – Academia] \nhttps://www.linkedin.com/in/talha-eccouncil/ \nWebinar Registration Link: \n  \n\n\n\n\n\nArab Open University – Bahrain \n\n\nBahrain \n\n\nActive \n\n\nhttps://attendee.gotowebinar.com/register/6930923712747359578?source=A2PSPK1599 \n\n\n\n\nArab Open University – Lebanon \n\n\nLebanon \n\n\nActive \n\n\nhttps://attendee.gotowebinar.com/register/6930923712747359578?source=A2AHBW709 \n\n\n\n\nArab Open University Egypt \n\n\nEgypt \n\n\nActive \n\n\nhttps://attendee.gotowebinar.com/register/6930923712747359578?source=A2IHIN870 \n\n\n\n\nArab Open University Jordan \n\n\nJordan \n\n\nActive \n\n\nhttps://attendee.gotowebinar.com/register/6930923712747359578?source=A2ASET939 \n\n\n\n\nArab Open University Kuwait \n\n\nKuwait \n\n\nActive \n\n\nhttps://attendee.gotowebinar.com/register/6930923712747359578?source=A2MHOM1355 \n\n\n\n\nArab Open University Kuwait HQ \n\n\nKuwait \n\n\nActive \n\n\nhttps://attendee.gotowebinar.com/register/6930923712747359578?source=A2MHJO1190 \n\n\n\n\nArab Open University Oman \n\n\nOman \n\n\nActive \n\n\nhttps://attendee.gotowebinar.com/register/6930923712747359578?source=A2MHAE1525 \n\n\n\n\nArab Open University Saudi Arabia \n\n\nSaudi Arabia \n\n\nActive \n\n\nhttps://attendee.gotowebinar.com/register/6930923712747359578?source=A2IHIN1837 \n\n\n\n\nArab Open University Sudan \n\n\nSudan \n\n\nActive \n\n\nhttps://attendee.gotowebinar.com/register/6930923712747359578?source=A2MHSA643 \n\n\n\n\n\n ​ \nDuring the webinar\, students will have the opportunity to: \n\nGain insights into the latest trends and challenges in the cybersecurity landscape.\nUnderstand career opportunities in cybersecurity and the skills required to succeed in this field.\nUnderstand various certifications and their job role mapping.\nCourse overview of the Certified Ethical Hacker Program.\nExperience a Live Hacking Simulation Attack!\nEngage in a Q&A session with our experienced speaker(s) to address your queries.\n\nThis webinar is open to all students interested in cybersecurity\, regardless of their level of expertise. Whether they are just starting to explore \nthe field  or have some prior knowledge\,they will find valuable takeaways from this session. \nWe look forward to your active participation in this insightful webinar.​ \n​
URL:https://nnew.theafaa.org.eg/event/webinar-on-career-prospects-in-cyber-security-03-%d9%86%d9%88%d9%81%d9%85%d8%a8%d8%b1-2023/
CATEGORIES:الإعلانات
END:VEVENT
END:VCALENDAR